BEGIN:VCALENDAR
VERSION:2.0
PRODID:-//ChamberMaster//Event Calendar 2.0//EN
METHOD:PUBLISH
X-PUBLISHED-TTL:P3D
REFRESH-INTERVAL:P3D
CALSCALE:GREGORIAN
BEGIN:VEVENT
DTSTART:20260423T150000Z
DTEND:20260423T190000Z
X-MICROSOFT-CDO-ALLDAYEVENT:FALSE
SUMMARY:2026 Iron Range Job Fair
DESCRIPTION:Be part of the largest career event on the Iron Range!\n\nThe 2026 Iron Range Job Fair is your opportunity to connect with top talent in the region.\n\nWith over 500 attendees last year and 70+ employers showcasing exciting opportunities\, this event is a proven success for businesses looking to grow their teams.\n\nDon't miss your chance to network with job seekers eager to explore careers in various industries.  \n\n\n\n\n**New for 2026**\n\n\n\nA Volunteer Fair will be held in the Ballroom\, providing non-profit organizations and other entities the opportunity to connect with potential volunteers. \n\nTo register for a volunteer table please email Carissa at events@laurentianchamber.org\n\nThe early bird discount ends Friday\, February 27th. (early bird registration discount is applied once added to the cart)\n\n\n\n\nJobseekers\n\n\n\nYou do not need to register to attend. \n\nFor more information about this event\, please visit our Facebook page.\n\n\n\nEmployers\n\n\n\nRegistration is now open!\n\nThe early bird discount ends Friday\, February 27th. (early bird registration discount is applied once added to the cart)\n\nIf you're a non-chamber member\, you must pay by credit card at the time of registration.\n\nIf you'd prefer an invoice\, please contact Carissa at (218) 741-2717 or events@laurentianchamber.org\n\n*Cancellations must be received in writing and confirmed by a Chamber Staff Member no later than April 9th to receive a full refund of the event fees.
X-ALT-DESC;FMTTYPE=text/html:<div auto="" border-radius:="" color:="" data-cvent-id="widget-SocialMedia-widget:a237c33f-163a-4f8c-8fce-1e08ee2b09cd" pt="" scroll-behavior:="" style="text-align: center\;"><span style="font-size: 36px\;">Be part of the largest career event on the Iron Range!</span></div>\n\n<div auto="" border-radius:="" color:="" data-cvent-id="widget-SocialMedia-widget:a237c33f-163a-4f8c-8fce-1e08ee2b09cd" pt="" scroll-behavior:="" style="text-align: center\;"><span style="font-size: 18px\;">The 2026 Iron Range Job Fair is your opportunity to connect with top talent in the region.<br />\nWith over 500 attendees last year and 70+ employers showcasing exciting opportunities\, this event is a proven success for businesses looking to grow their teams.<br />\nDon&#39\;t miss your chance to network with job seekers eager to explore careers in various industries.&nbsp\;</span><span style="font-size: 18px\;">&nbsp\;</span></div>\n\n<div auto="" border-radius:="" color:="" data-cvent-id="widget-SocialMedia-widget:a237c33f-163a-4f8c-8fce-1e08ee2b09cd" pt="" scroll-behavior:="" style="margin: 0px\; padding: 10px 0px 0px\; border: 0px\; box-sizing: border-box\; text-align: center\; background-color: transparent\; font-size: 2.5rem\; line-height: 1.3\;">\n<div auto="" border-radius:="" color:="" data-cvent-id="widget-SocialMedia-widget:a237c33f-163a-4f8c-8fce-1e08ee2b09cd" pt="" scroll-behavior:="" style="margin: 0px\; padding: 10px 0px 0px\; border: 0px\; box-sizing: border-box\; text-align: center\; background-color: transparent\; font-size: 2.5rem\; line-height: 1.3\;"><br />\n**New for 2026**</div>\n\n<div auto="" border-radius:="" color:="" data-cvent-id="widget-SocialMedia-widget:a237c33f-163a-4f8c-8fce-1e08ee2b09cd" pt="" scroll-behavior:="" style="margin: 0px\; padding: 10px 0px\; border: 0px\; box-sizing: border-box\; text-align: center\; background-color: transparent\; font-size: 1.375rem\; line-height: 1.3\;">\n<div class="css-vsf5of" style="margin: 0px\; padding: 0px\; border: 0px\; box-sizing: border-box\; scroll-behavior: auto !important\;">\n<p class="carina-rte-public-DraftStyleDefault-block" style="margin: 0px\; padding: 0px\; border: 0px\; box-sizing: border-box\; scroll-behavior: auto !important\;"><span style="font-size: 18px\;">A Volunteer Fair will be held in the Ballroom\, providing non-profit organizations and other entities the opportunity to connect with potential volunteers.&nbsp\;<br />\n<strong>To register for a volunteer table please email Carissa at events@laurentianchamber.org</strong></span><br />\n<span style="font-size: 18px\; text-align: center\;">The early bird discount ends Friday\, February 27th.&nbsp\;</span><span style="font-size: 18px\; text-align: center\;">(early bird registration discount is applied once added to the cart)</span></p>\n</div>\n</div>\n<br />\nJobseekers</div>\n\n<div auto="" border-radius:="" color:="" data-cvent-id="widget-SocialMedia-widget:a237c33f-163a-4f8c-8fce-1e08ee2b09cd" pt="" scroll-behavior:="" style="margin: 0px\; padding: 10px 0px\; border: 0px\; box-sizing: border-box\; text-align: center\; background-color: transparent\; font-size: 1.375rem\; line-height: 1.3\;">\n<div class="css-vsf5of" style="margin: 0px\; padding: 0px\; border: 0px\; box-sizing: border-box\; scroll-behavior: auto !important\;">\n<p class="carina-rte-public-DraftStyleDefault-block" style="margin: 0px\; padding: 0px\; border: 0px\; box-sizing: border-box\; scroll-behavior: auto !important\;"><span style="font-size: 18px\;">You do not need to register to attend.&nbsp\;<br />\nFor more information about this event\, please visit our&nbsp\;<a href="https://www.facebook.com/IronRangeJobFair">Facebook page</a>.</span></p>\n\n<div auto="" border-radius:="" color:="" data-cvent-id="widget-SocialMedia-widget:a237c33f-163a-4f8c-8fce-1e08ee2b09cd" pt="" scroll-behavior:="" style="margin: 0px\; padding: 10px 0px 0px\; border: 0px\; box-sizing: border-box\; background-color: transparent\; font-size: 2.5rem\; line-height: 1.3\;"><br />\nEmployers</div>\n\n<div auto="" border-radius:="" color:="" data-cvent-id="widget-SocialMedia-widget:a237c33f-163a-4f8c-8fce-1e08ee2b09cd" pt="" scroll-behavior:="" style="margin: 0px\; padding: 10px 0px\; border: 0px\; box-sizing: border-box\; background-color: transparent\; font-size: 1.375rem\; line-height: 1.3\;">\n<div class="css-vsf5of" style="margin: 0px\; padding: 0px\; border: 0px\; box-sizing: border-box\; scroll-behavior: auto !important\;">\n<p class="carina-rte-public-DraftStyleDefault-block" style="margin: 0px\; padding: 0px\; border: 0px\; box-sizing: border-box\; scroll-behavior: auto !important\;"><span style="font-size: 18px\;">Registration is now open!<br />\nThe early bird discount ends Friday\, February 27th.&nbsp\;(early bird registration discount is applied once added to the cart)<br />\n<strong>If you&#39\;re a non-chamber member\, you must pay by credit card at the time of registration.<br />\nIf you&#39\;d prefer an invoice\, please contact Carissa at&nbsp\;(218) 741-2717 or events@laurentianchamber.org</strong></span><br />\n<span style="font-size:16px\;"><em>*Cancellations must be received in writing and confirmed by a Chamber Staff Member no later than&nbsp\;April 9th to receive a full refund of the event fees.&nbsp\;</em></span></p>\n</div>\n</div>\n</div>\n</div>\n
LOCATION:Iron Trail Motors Event Center 919 6th St S\, Virginia\, MN
UID:e.3515.2013
SEQUENCE:3
DTSTAMP:20260423T112522Z
URL:https://business.laurentianchamber.org/events/details/2026-iron-range-job-fair-2013
END:VEVENT

END:VCALENDAR
